BEGIN:VCALENDAR
VERSION:2.0
PRODID:-//PACIM - ECPv6.3.3.1//NONSGML v1.0//EN
CALSCALE:GREGORIAN
METHOD:PUBLISH
X-ORIGINAL-URL:https://pacim.org
X-WR-CALDESC:Events for PACIM
REFRESH-INTERVAL;VALUE=DURATION:PT1H
X-Robots-Tag:noindex
X-PUBLISHED-TTL:PT1H
BEGIN:VTIMEZONE
TZID:America/Chicago
BEGIN:DAYLIGHT
TZOFFSETFROM:-0600
TZOFFSETTO:-0500
TZNAME:CDT
DTSTART:20260308T080000
END:DAYLIGHT
BEGIN:STANDARD
TZOFFSETFROM:-0500
TZOFFSETTO:-0600
TZNAME:CST
DTSTART:20261101T070000
END:STANDARD
END:VTIMEZONE
BEGIN:VEVENT
DTSTART;TZID=America/Chicago:20260406T170000
DTEND;TZID=America/Chicago:20260406T210000
DTSTAMP:20260425T140340
CREATED:20260323T191049Z
LAST-MODIFIED:20260324T201333Z
UID:7561-1775494800-1775509200@pacim.org
SUMMARY:Dyngus Day at Yoerg's Brewing
DESCRIPTION:A great chance to socialize over beer and kiełbasa!\n\nAn event organized by Break the Bubble  (Jon Slick):\n\n“Something a teeny bit different.\n\nThere is a Polish holiday the day after Easter (Dyngus Day)\, which is basically an excuse to have some beer and sausage after behaving all Lent. So far\, so good\, right?\n\nYoerg’s has plenty of beer (some Polish beers\, too)\, delicious food (including Polish sausage)\, and it’s also a completely fantastic place BTW. I’ve somehow convinced them to host this little experiment. It wouldn’t shock me if maybe more than a few of you want a drink after dealing with family all Easter weekend.\nYou don’t have to be Polish to attend… no one’s perfect. “
URL:https://pacim.org/event/dyngus-day-at-yoerg-brewing/
LOCATION:Yeorg’s Brewing\, 378 Maria Ave\, St. Paul\, MN\, 55106\, United States
CATEGORIES:Community Events
ATTACH;FMTTYPE=image/png:https://pacim.org/wp-content/uploads/2026/03/Untitled-104-1.png
ORGANIZER;CN="Break the Bubble":MAILTO:jon.slock@gmail.com
END:VEVENT
END:VCALENDAR