BEGIN:VCALENDAR
VERSION:2.0
PRODID:-//PACIM - ECPv6.3.3.1//NONSGML v1.0//EN
CALSCALE:GREGORIAN
METHOD:PUBLISH
X-ORIGINAL-URL:https://pacim.org
X-WR-CALDESC:Events for PACIM
REFRESH-INTERVAL;VALUE=DURATION:PT1H
X-Robots-Tag:noindex
X-PUBLISHED-TTL:PT1H
BEGIN:VTIMEZONE
TZID:America/Chicago
BEGIN:DAYLIGHT
TZOFFSETFROM:-0600
TZOFFSETTO:-0500
TZNAME:CDT
DTSTART:20250309T080000
END:DAYLIGHT
BEGIN:STANDARD
TZOFFSETFROM:-0500
TZOFFSETTO:-0600
TZNAME:CST
DTSTART:20251102T070000
END:STANDARD
END:VTIMEZONE
BEGIN:VEVENT
DTSTART;VALUE=DATE:20251115
DTEND;VALUE=DATE:20251117
DTSTAMP:20260425T205144
CREATED:20251028T201754Z
LAST-MODIFIED:20251028T201754Z
UID:7092-1763164800-1763337599@pacim.org
SUMMARY:Romanian Film Festival 2025 – “Between Shadow and Light”
DESCRIPTION:This evocative film series explores the tension between darkness and illumination—both literal and metaphorical—within Romanian cinema. Between Shadow and Light invites audiences to experience stories that navigate the blurred lines between truth and illusion\, memory and myth\, oppression and resilience. Through carefully selected films\, the festival showcases Romania’s cinematic mastery in portraying the human condition with stark realism\, poetic nuance\, and haunting beauty. From rural landscapes steeped in folklore to urban dramas shaped by post-communist realities\, each screening offers a window into the soul of a nation grappling with its past and redefining its future. \nThe theme reflects the duality present in Romanian storytelling: the shadow of history\, censorship\, and trauma contrasted with the light of creativity\, resistance\, and cultural rebirth. Whether through minimalist dialogue\, long takes\, or symbolic imagery\, these films challenge viewers to confront uncomfortable truths while celebrating the enduring spirit of Romanian artistry. Between Shadow and Light is not just a festival—it’s a cinematic meditation on identity\, transformation\, and the power of storytelling to illuminate even the darkest corners. \nAs our primary visual organ\, the eye symbolizes knowledge and openness to new dimensions. It represents clarity\, observation\, awareness\, consciousness\, vigilance\, and intuition—qualities that guide us beyond surface perception into deeper understanding. The guarding eye serves as our guide\, protector\, and judge\, watching over us. It leads us toward the light\, illuminating truth and revealing the unseen. In its gaze lies the power to awaken\, to discern\, and to transcend. \nAll movies are in Romanian language with English subtitles. \nFor more information\, schedule of showings\, and to get free tickets\, see https://hora-mn.org/2025/08/27/romanian-film-festival-2025/
URL:https://pacim.org/event/romanian-film-festival-2025-between-shadow-and-light/
LOCATION:Landmark Center – F.K. Weyerhaeuser Auditorium\, 75 Fifth Street West\, St. Paul\, MN\, 55102\, United States
CATEGORIES:Community Events
ATTACH;FMTTYPE=image/jpeg:https://pacim.org/wp-content/uploads/2025/10/Film-Fest-FI-jpg.webp
ORGANIZER;CN="Heritage Organization of Romanian Americans in Minnesota (HORA)":MAILTO:horamn.media@gmail.com
END:VEVENT
END:VCALENDAR