BEGIN:VCALENDAR
VERSION:2.0
PRODID:-//PACIM - ECPv6.3.3.1//NONSGML v1.0//EN
CALSCALE:GREGORIAN
METHOD:PUBLISH
X-WR-CALNAME:PACIM
X-ORIGINAL-URL:https://pacim.org
X-WR-CALDESC:Events for PACIM
REFRESH-INTERVAL;VALUE=DURATION:PT1H
X-Robots-Tag:noindex
X-PUBLISHED-TTL:PT1H
BEGIN:VTIMEZONE
TZID:America/Chicago
BEGIN:DAYLIGHT
TZOFFSETFROM:-0600
TZOFFSETTO:-0500
TZNAME:CDT
DTSTART:20250309T080000
END:DAYLIGHT
BEGIN:STANDARD
TZOFFSETFROM:-0500
TZOFFSETTO:-0600
TZNAME:CST
DTSTART:20251102T070000
END:STANDARD
END:VTIMEZONE
BEGIN:VEVENT
DTSTART;TZID=America/Chicago:20251111T190000
DTEND;TZID=America/Chicago:20251111T200000
DTSTAMP:20260425T205113
CREATED:20251031T231024Z
LAST-MODIFIED:20251031T231024Z
UID:7106-1762887600-1762891200@pacim.org
SUMMARY:Armistice Day Celebration
DESCRIPTION:Join Twin Cities’ local and international communities in Brit’s Clubhouse Room for live music\, a color guard\, and words honoring the global Anniversary of the Armistice that ended World War 1. Doors open at 6 p.m.\, and the program begins at 7 p.m. Guests are welcome to stay after the program to socialize. Food and beverages will be available for purchase. \nLook forward to seeing you all\, including your family. This event is free. All are welcome!
URL:https://pacim.org/event/armistice-day-celebration/
LOCATION:Brits Pub\, 1110 Nicollet Mall 55403\, Minneapolis\, MN\, 55403\, United States
CATEGORIES:Community Events
ATTACH;FMTTYPE=image/jpeg:https://pacim.org/wp-content/uploads/2025/10/IMG_8099-2-scaled.webp
END:VEVENT
END:VCALENDAR