BEGIN:VCALENDAR
VERSION:2.0
PRODID:-//PACIM - ECPv6.3.3.1//NONSGML v1.0//EN
CALSCALE:GREGORIAN
METHOD:PUBLISH
X-ORIGINAL-URL:https://pacim.org
X-WR-CALDESC:Events for PACIM
REFRESH-INTERVAL;VALUE=DURATION:PT1H
X-Robots-Tag:noindex
X-PUBLISHED-TTL:PT1H
BEGIN:VTIMEZONE
TZID:America/Chicago
BEGIN:DAYLIGHT
TZOFFSETFROM:-0600
TZOFFSETTO:-0500
TZNAME:CDT
DTSTART:20250309T080000
END:DAYLIGHT
BEGIN:STANDARD
TZOFFSETFROM:-0500
TZOFFSETTO:-0600
TZNAME:CST
DTSTART:20251102T070000
END:STANDARD
END:VTIMEZONE
BEGIN:VEVENT
DTSTART;TZID=America/Chicago:20251102T160000
DTEND;TZID=America/Chicago:20251102T180000
DTSTAMP:20260425T205124
CREATED:20251101T200836Z
LAST-MODIFIED:20251101T200836Z
UID:7116-1762099200-1762106400@pacim.org
SUMMARY:From the Baltic Countryside to Dumbarton Oaks Bakken Ensemble by Bakken Ensemble
DESCRIPTION:Tunes from the Polish and Lithuanian countryside\, then explore the garden of Dumbarton Oaks and end with a grand Russian masterwork. \nGrażyna Bacewicz: Violin Duets on Folk Themes\nRobert Schuman: Fantasy Pieces Op. 73 for Cello and Piano\nCaroline Shaw: Plan and Elevation for String Quartet\nSergey Taneyev: Piano Quintet in g minor\, Op. 30 \nGuest artists:\nHanna Hyunjung Kim\, piano\nRui Du\, violin\nKyu-Young Kim\, viola \nFot more info and tickets\, please visit https://allevents.in/minneapolis/from-the-baltic-countryside-to-dumbarton-oaks/200028863679903
URL:https://pacim.org/event/from-the-baltic-countryside-to-dumbarton-oaks-bakken-ensemble-by-bakken-ensemble/
LOCATION:MacPhail Center for Music\, 501 S 2nd St\, Minneapolis\, MN\, 55401-2383\, United States
CATEGORIES:Community Events
ATTACH;FMTTYPE=image/jpeg:https://pacim.org/wp-content/uploads/2025/11/557732208_1142282984704201_8246666909171241446_n-jpg.webp
END:VEVENT
END:VCALENDAR