BEGIN:VCALENDAR
VERSION:2.0
PRODID:-//PACIM - ECPv6.3.3.1//NONSGML v1.0//EN
CALSCALE:GREGORIAN
METHOD:PUBLISH
X-WR-CALNAME:PACIM
X-ORIGINAL-URL:https://pacim.org
X-WR-CALDESC:Events for PACIM
REFRESH-INTERVAL;VALUE=DURATION:PT1H
X-Robots-Tag:noindex
X-PUBLISHED-TTL:PT1H
BEGIN:VTIMEZONE
TZID:America/Chicago
BEGIN:DAYLIGHT
TZOFFSETFROM:-0600
TZOFFSETTO:-0500
TZNAME:CDT
DTSTART:20250309T080000
END:DAYLIGHT
BEGIN:STANDARD
TZOFFSETFROM:-0500
TZOFFSETTO:-0600
TZNAME:CST
DTSTART:20251102T070000
END:STANDARD
END:VTIMEZONE
BEGIN:VEVENT
DTSTART;TZID=America/Chicago:20251220T190000
DTEND;TZID=America/Chicago:20251220T210000
DTSTAMP:20260425T180542
CREATED:20251112T230844Z
LAST-MODIFIED:20251112T230844Z
UID:7192-1766257200-1766264400@pacim.org
SUMMARY:Advent Lessons and Carols
DESCRIPTION:Holy Cross Catholic Church warmly invites you to our Fifth Annual Advent Lessons and Carols on Saturday\, December 20\, 2025\, at 7:00pm. \nExperience the beauty of the season through beloved Advent music\, scripture\, and candlelight\, with readings and hymns in English and Polish. \nThis year’s program\, Splendor of Eternal Light\, includes choral works by:\nBarkoskie IV • Gorczycki • MacMillan • Handel • Hovland • Wood • Weir • Ord \nA reception will follow in Kolbe Hall. \nAll are welcome to join us for this cherished Advent tradition.
URL:https://pacim.org/event/advent-lessons-and-carols/
LOCATION:Church of the Holy Cross\, 1621 University Ave NE\, Minneapolis\, MN\, 55413\, United States
CATEGORIES:Community Events
ATTACH;FMTTYPE=application/pdf:https://pacim.org/wp-content/uploads/2025/11/2025-12-20-Lessons-and-Carols-POSTCARD-5.5-x-4.25-in-6.pdf
END:VEVENT
END:VCALENDAR